BEGIN:VCALENDAR
VERSION:2.0
PRODID:-//Saint Martin de l&#039;If - ECPv5.16.1.1//NONSGML v1.0//EN
CALSCALE:GREGORIAN
METHOD:PUBLISH
X-WR-CALNAME:Saint Martin de l&#039;If
X-ORIGINAL-URL:https://www.saintmartindelif.fr
X-WR-CALDESC:évènements pour Saint Martin de l&#039;If
BEGIN:VTIMEZONE
TZID:Europe/Paris
BEGIN:DAYLIGHT
TZOFFSETFROM:+0100
TZOFFSETTO:+0200
TZNAME:CEST
DTSTART:20220327T010000
END:DAYLIGHT
BEGIN:STANDARD
TZOFFSETFROM:+0200
TZOFFSETTO:+0100
TZNAME:CET
DTSTART:20221030T010000
END:STANDARD
END:VTIMEZONE
BEGIN:VEVENT
DTSTART;TZID=Europe/Paris:20220508T111500
DTEND;TZID=Europe/Paris:20220508T123000
DTSTAMP:20260423T203356
CREATED:20220430T143357Z
LAST-MODIFIED:20220430T173525Z
UID:4947-1652008500-1652013000@www.saintmartindelif.fr
SUMMARY:Cérémonie commémorative de la Victoire 1945
DESCRIPTION:Rassemblement et dépôt de gerbe au monument aux morts du cimetière de Betteville\, en présence des Anciens Combattants\, suivi d’un vin d’honneur offert par les Anciens Combattants à la mairie de Betteville.
URL:https://www.saintmartindelif.fr/evenement/ceremonie-commemorative-de-la-victoire-1945-2022/
LOCATION:Monument aux Morts de Betteville
CATEGORIES:Commémorations,Mairie
END:VEVENT
END:VCALENDAR