BEGIN:VCALENDAR
VERSION:2.0
PRODID:-//Saint Martin de l&#039;If - ECPv5.16.1.1//NONSGML v1.0//EN
CALSCALE:GREGORIAN
METHOD:PUBLISH
X-WR-CALNAME:Saint Martin de l&#039;If
X-ORIGINAL-URL:https://www.saintmartindelif.fr
X-WR-CALDESC:évènements pour Saint Martin de l&#039;If
BEGIN:VTIMEZONE
TZID:Europe/Paris
BEGIN:DAYLIGHT
TZOFFSETFROM:+0100
TZOFFSETTO:+0200
TZNAME:CEST
DTSTART:20220327T010000
END:DAYLIGHT
BEGIN:STANDARD
TZOFFSETFROM:+0200
TZOFFSETTO:+0100
TZNAME:CET
DTSTART:20221030T010000
END:STANDARD
END:VTIMEZONE
BEGIN:VEVENT
DTSTART;TZID=Europe/Paris:20220429T090000
DTEND;TZID=Europe/Paris:20220429T163000
DTSTAMP:20260423T203151
CREATED:20220225T140750Z
LAST-MODIFIED:20220225T140750Z
UID:4751-1651222800-1651249800@www.saintmartindelif.fr
SUMMARY:Inscriptions 2022 - École de Fréville
DESCRIPTION:Plus d’informations sur notre article dédié.
URL:https://www.saintmartindelif.fr/evenement/inscriptions-2022-ecole-de-freville-3/
CATEGORIES:Écoles,Mairie,Vie locale
END:VEVENT
END:VCALENDAR