BEGIN:VCALENDAR
VERSION:2.0
PRODID:-//Saint Martin de l&#039;If - ECPv5.16.1.1//NONSGML v1.0//EN
CALSCALE:GREGORIAN
METHOD:PUBLISH
X-WR-CALNAME:Saint Martin de l&#039;If
X-ORIGINAL-URL:https://www.saintmartindelif.fr
X-WR-CALDESC:évènements pour Saint Martin de l&#039;If
BEGIN:VTIMEZONE
TZID:Europe/Paris
BEGIN:DAYLIGHT
TZOFFSETFROM:+0100
TZOFFSETTO:+0200
TZNAME:CEST
DTSTART:20220327T010000
END:DAYLIGHT
BEGIN:STANDARD
TZOFFSETFROM:+0200
TZOFFSETTO:+0100
TZNAME:CET
DTSTART:20221030T010000
END:STANDARD
END:VTIMEZONE
BEGIN:VEVENT
DTSTART;TZID=Europe/Paris:20220408T090000
DTEND;TZID=Europe/Paris:20220408T163000
DTSTAMP:20260423T220833
CREATED:20220225T140724Z
LAST-MODIFIED:20220225T140724Z
UID:4750-1649408400-1649435400@www.saintmartindelif.fr
SUMMARY:Inscriptions 2022 - École de Fréville
DESCRIPTION:Plus d’informations sur notre article dédié.
URL:https://www.saintmartindelif.fr/evenement/inscriptions-2022-ecole-de-freville-2/
LOCATION:École Élémentaire – Fréville\, 47 rue d'Yvetot - Fréville\, Saint Martin de l'If\, Seine-Maritime\, 76190\, France
CATEGORIES:Écoles,Mairie,Vie locale
END:VEVENT
END:VCALENDAR