BEGIN:VCALENDAR
VERSION:2.0
PRODID:-//Saint Martin de l&#039;If - ECPv5.16.1.1//NONSGML v1.0//EN
CALSCALE:GREGORIAN
METHOD:PUBLISH
X-WR-CALNAME:Saint Martin de l&#039;If
X-ORIGINAL-URL:https://www.saintmartindelif.fr
X-WR-CALDESC:évènements pour Saint Martin de l&#039;If
BEGIN:VTIMEZONE
TZID:Europe/Paris
BEGIN:DAYLIGHT
TZOFFSETFROM:+0100
TZOFFSETTO:+0200
TZNAME:CEST
DTSTART:20220327T010000
END:DAYLIGHT
BEGIN:STANDARD
TZOFFSETFROM:+0200
TZOFFSETTO:+0100
TZNAME:CET
DTSTART:20221030T010000
END:STANDARD
END:VTIMEZONE
BEGIN:VEVENT
DTSTART;TZID=Europe/Paris:20220128T203000
DTEND;TZID=Europe/Paris:20220128T203000
DTSTAMP:20260424T031504
CREATED:20220125T204438Z
LAST-MODIFIED:20220209T230200Z
UID:4731-1643401800-1643401800@www.saintmartindelif.fr
SUMMARY:Réunion du Conseil Municipal
DESCRIPTION:Ordre du jour :\n\n 	Approbation du compte rendu de la dernière réunion du conseil municipal du 20 décembre 2021\n 	Participation de la commune aux contrats prévoyance des agents\n 	Demande de subvention de la mini-entreprise du collège Catherine BERNARD de Barentin\n 	Demande de subvention pour la mise aux normes électriques de l’église de Betteville\n 	Mise aux normes du paratonnerre de l’église de Betteville\n 	Demande de remboursement des locations de salles 2022\n 	Convention AXA\n 	Questions diverses
URL:https://www.saintmartindelif.fr/evenement/reunion-du-conseil-municipal-30/
LOCATION:Mairie de Saint Martin de l’If\, 47 rue d'Yvetot\, Fréville\, Seine-Maritime\, 76190\, France
CATEGORIES:Mairie
END:VEVENT
END:VCALENDAR