BEGIN:VCALENDAR
VERSION:2.0
PRODID:-//Saint Martin de l&#039;If - ECPv5.16.1.1//NONSGML v1.0//EN
CALSCALE:GREGORIAN
METHOD:PUBLISH
X-WR-CALNAME:Saint Martin de l&#039;If
X-ORIGINAL-URL:https://www.saintmartindelif.fr
X-WR-CALDESC:évènements pour Saint Martin de l&#039;If
BEGIN:VTIMEZONE
TZID:Europe/Paris
BEGIN:DAYLIGHT
TZOFFSETFROM:+0100
TZOFFSETTO:+0200
TZNAME:CEST
DTSTART:20210328T010000
END:DAYLIGHT
BEGIN:STANDARD
TZOFFSETFROM:+0200
TZOFFSETTO:+0100
TZNAME:CET
DTSTART:20211031T010000
END:STANDARD
END:VTIMEZONE
BEGIN:VEVENT
DTSTART;TZID=Europe/Paris:20210611T203000
DTEND;TZID=Europe/Paris:20210611T203000
DTSTAMP:20260424T144350
CREATED:20210609T225808Z
LAST-MODIFIED:20210627T220003Z
UID:4386-1623443400-1623443400@www.saintmartindelif.fr
SUMMARY:Réunion du Conseil Municipal
DESCRIPTION:Ordre du jour :\n\n 	Approbation du compte rendu de la dernière réunion du conseil municipal du 14 avril 2021\n 	Affectation du résultat de la Ferme de Brunville sur le budget principal\n 	Emprunt à court terme\n 	Délibération de principe sur le transfert des charges du Relais Assistant Maternel de la Commission Locale d’Évaluation des Charges Transférées\n 	Logéal : Garantie d’emprunt pour reconstruction\n 	Logéal : Proposition de rachat de bail emphytéotique « Résidence Guy de Maupassant »\n 	Demandes de remboursement d’accompte de la salle polyvalente\n 	Régularisations d’écritures comptables\n 	Participation au Fonds d’Aide aux Jeunes (FAJ) 2021\n 	Cession du camion voirie\n 	Transport scolaire : Nouveau tarif ferroviaire\n 	Réaménagement du bourg : attribution du marché de maitrise d’œuvre\n 	Marché « réhabilitation d’un local commercial » : avenant financier\, lot n°5 BA POSE\n 	Fixation des nouveaux tarifs des services périscolaires de Betteville et Fréville\, à compter du mois de septembre 2021\n 	Convention entretien du fossé du Val au Cesne\n 	Questions diverses
URL:https://www.saintmartindelif.fr/evenement/reunion-du-conseil-municipal-22/
LOCATION:Salle Antoine Corneille – Fréville\, Foyer Rural Antoine Corneille\, Fréville\, Seine-Maritime\, 76190\, France
CATEGORIES:Mairie
END:VEVENT
END:VCALENDAR