BEGIN:VCALENDAR
VERSION:2.0
PRODID:-//Saint Martin de l&#039;If - ECPv5.16.1.1//NONSGML v1.0//EN
CALSCALE:GREGORIAN
METHOD:PUBLISH
X-WR-CALNAME:Saint Martin de l&#039;If
X-ORIGINAL-URL:https://www.saintmartindelif.fr
X-WR-CALDESC:évènements pour Saint Martin de l&#039;If
BEGIN:VTIMEZONE
TZID:Europe/Paris
BEGIN:DAYLIGHT
TZOFFSETFROM:+0100
TZOFFSETTO:+0200
TZNAME:CEST
DTSTART:20210328T010000
END:DAYLIGHT
BEGIN:STANDARD
TZOFFSETFROM:+0200
TZOFFSETTO:+0100
TZNAME:CET
DTSTART:20211031T010000
END:STANDARD
END:VTIMEZONE
BEGIN:VEVENT
DTSTART;VALUE=DATE:20210223
DTEND;VALUE=DATE:20210425
DTSTAMP:20260424T175258
CREATED:20210223T222842Z
LAST-MODIFIED:20210226T151146Z
UID:4277-1614052800-1619236799@www.saintmartindelif.fr
SUMMARY:Inscriptions 2021 - École de Betteville
DESCRIPTION:Inscriptions en mairie\, les mardis et vendredis\, aux horaires de permanence\, jusqu’au 23 avril. \nPlus d’informations sur notre article dédié.
URL:https://www.saintmartindelif.fr/evenement/inscriptions-2021-ecole-de-betteville/
LOCATION:École Primaire – Betteville\, 111 Le Bourg - Betteville\, Saint Martin de l'If\, Seine-Maritime\, 76190\, France
CATEGORIES:Écoles,Mairie,Vie locale
END:VEVENT
BEGIN:VEVENT
DTSTART;TZID=Europe/Paris:20210414T203000
DTEND;TZID=Europe/Paris:20210414T203000
DTSTAMP:20260424T175258
CREATED:20210413T192804Z
LAST-MODIFIED:20210413T192804Z
UID:4338-1618432200-1618432200@www.saintmartindelif.fr
SUMMARY:Réunion du Conseil Municipal
DESCRIPTION:Ordre du jour : \n\nApprobation du compte rendu de la dernière réunion du conseil municipal du 19 mars 2021\nApprobation des comptes administratifs 2020 (tous budgets)\nApprobation des comptes de gestion 2020 (tous budgets)\nVote des taux\nAffectations des résultats 2020 sur le budget primitif 2021 (tous budgets)\nVote des budgets primitifs 2021 (tous budgets)\nModification délibération du RIFSEEP\nDivision M. et Mme Yon\, rue de Croix Mare\nFiscalisation des participations communales\nQuestions diverses
URL:https://www.saintmartindelif.fr/evenement/reunion-du-conseil-municipal-21/
LOCATION:Salle Antoine Corneille – Fréville\, Foyer Rural Antoine Corneille\, Fréville\, Seine-Maritime\, 76190\, France
CATEGORIES:Mairie
END:VEVENT
END:VCALENDAR