BEGIN:VCALENDAR
VERSION:2.0
PRODID:-//Saint Martin de l&#039;If - ECPv5.16.1.1//NONSGML v1.0//EN
CALSCALE:GREGORIAN
METHOD:PUBLISH
X-WR-CALNAME:Saint Martin de l&#039;If
X-ORIGINAL-URL:https://www.saintmartindelif.fr
X-WR-CALDESC:évènements pour Saint Martin de l&#039;If
BEGIN:VTIMEZONE
TZID:Europe/Paris
BEGIN:DAYLIGHT
TZOFFSETFROM:+0100
TZOFFSETTO:+0200
TZNAME:CEST
DTSTART:20200329T010000
END:DAYLIGHT
BEGIN:STANDARD
TZOFFSETFROM:+0200
TZOFFSETTO:+0100
TZNAME:CET
DTSTART:20201025T010000
END:STANDARD
END:VTIMEZONE
BEGIN:VEVENT
DTSTART;TZID=Europe/Paris:20201117T203000
DTEND;TZID=Europe/Paris:20201117T203000
DTSTAMP:20260425T015054
CREATED:20201117T184615Z
LAST-MODIFIED:20201117T184615Z
UID:4195-1605645000-1605645000@www.saintmartindelif.fr
SUMMARY:Réunion du Conseil Municipal
DESCRIPTION:Ordre du jour : \n\nApprobation du compte rendu de la dernière réunion du conseil municipal du 16 octobre 2020\nUtilisation du droit de préemption\nRenouvellement convention voirie\nLevée indice propriété Maillard\nRenouvellement délibération remplacement personnel absent\nUtilisation fonds de concours\nProjet 2021\nQuestions diverses
URL:https://www.saintmartindelif.fr/evenement/reunion-du-conseil-municipal-17/
LOCATION:Salle Antoine Corneille – Fréville\, Foyer Rural Antoine Corneille\, Fréville\, Seine-Maritime\, 76190\, France
CATEGORIES:Mairie
END:VEVENT
END:VCALENDAR