BEGIN:VCALENDAR
VERSION:2.0
PRODID:-//Saint Martin de l&#039;If - ECPv5.16.1.1//NONSGML v1.0//EN
CALSCALE:GREGORIAN
METHOD:PUBLISH
X-WR-CALNAME:Saint Martin de l&#039;If
X-ORIGINAL-URL:https://www.saintmartindelif.fr
X-WR-CALDESC:évènements pour Saint Martin de l&#039;If
BEGIN:VTIMEZONE
TZID:Europe/Paris
BEGIN:DAYLIGHT
TZOFFSETFROM:+0100
TZOFFSETTO:+0200
TZNAME:CEST
DTSTART:20200329T010000
END:DAYLIGHT
BEGIN:STANDARD
TZOFFSETFROM:+0200
TZOFFSETTO:+0100
TZNAME:CET
DTSTART:20201025T010000
END:STANDARD
END:VTIMEZONE
BEGIN:VEVENT
DTSTART;TZID=Europe/Paris:20200207T203000
DTEND;TZID=Europe/Paris:20200207T203000
DTSTAMP:20260425T153154
CREATED:20200203T221533Z
LAST-MODIFIED:20200203T223839Z
UID:3714-1581107400-1581107400@www.saintmartindelif.fr
SUMMARY:Réunion du Conseil Municipal
DESCRIPTION:Ordre du jour : \n\nApprobation du compte rendu de la dernière réunion du conseil municipal du 17 décembre 2019\nApprobation du Sage des 6 Vallées\nSécurisation route de Croix-Mare\, RD89 La Folletière et bourg\nVente de 4 pavillons Logéal : avis du conseil municipal\nAvis sur le Plan de prévention des risques d’inondation des bassins versants de l’Austreberthe et du Saffimbec\nDemande de subventions projets 2020\nSubventions aux associations\nVote des comptes administratifs 2019\, budget principal et budgets annexes (Ferme de Brunville\, Espace Commercial et Voirie) et affectation des résultats 2019 sur le budget primitif 2020\nQuestions diverses
URL:https://www.saintmartindelif.fr/evenement/reunion-du-conseil-municipal-13/
LOCATION:Mairie de Saint Martin de l’If\, 47 rue d'Yvetot\, Fréville\, Seine-Maritime\, 76190\, France
CATEGORIES:Mairie
END:VEVENT
END:VCALENDAR