BEGIN:VCALENDAR
VERSION:2.0
PRODID:-//Saint Martin de l&#039;If - ECPv5.16.1.1//NONSGML v1.0//EN
CALSCALE:GREGORIAN
METHOD:PUBLISH
X-WR-CALNAME:Saint Martin de l&#039;If
X-ORIGINAL-URL:https://www.saintmartindelif.fr
X-WR-CALDESC:évènements pour Saint Martin de l&#039;If
BEGIN:VTIMEZONE
TZID:Europe/Paris
BEGIN:DAYLIGHT
TZOFFSETFROM:+0100
TZOFFSETTO:+0200
TZNAME:CEST
DTSTART:20210328T010000
END:DAYLIGHT
BEGIN:STANDARD
TZOFFSETFROM:+0200
TZOFFSETTO:+0100
TZNAME:CET
DTSTART:20211031T010000
END:STANDARD
END:VTIMEZONE
BEGIN:VEVENT
DTSTART;TZID=Europe/Paris:20210627T080000
DTEND;TZID=Europe/Paris:20210627T180000
DTSTAMP:20260422T104537
CREATED:20210526T181008Z
LAST-MODIFIED:20210526T181008Z
UID:4378-1624780800-1624816800@www.saintmartindelif.fr
SUMMARY:Élections Départementale et Régionale 2021 (2nd tour)
DESCRIPTION:Rendez-vous dans votre bureau de vote. \nAttention ! Afin de respecter les distances minimum imposées par les protocoles sanitaires actuels\, les élections se dérouleront dans les lieux suivants : \n\nBureau n°1: Salle Antoine Corneille (Foyer Rural)\, Fréville\nBureau n°2: Salle Polyvalente\, Betteville\n\nÀ noter également : une jauge de 3 électeurs sera instaurée pour chaque bureau de vote. \nPartagez cet article !
URL:https://www.saintmartindelif.fr/evenement/elections-departementale-et-regionale-2021-2nd-tour/
CATEGORIES:Élections,Vie locale
END:VEVENT
END:VCALENDAR